Package: ENmix Version: 1.43.2 Command: E:\biocbuild\bbs-3.21-bioc\R\bin\R.exe CMD check --no-multiarch --install=check:ENmix.install-out.txt --library=E:\biocbuild\bbs-3.21-bioc\R\library --no-vignettes --timings ENmix_1.43.2.tar.gz StartedAt: 2025-02-05 01:16:38 -0500 (Wed, 05 Feb 2025) EndedAt: 2025-02-05 01:23:10 -0500 (Wed, 05 Feb 2025) EllapsedTime: 392.5 seconds RetCode: 0 Status: OK CheckDir: ENmix.Rcheck Warnings: 0