Package: ENmix Version: 1.43.2 Command: E:\biocbuild\bbs-3.21-bioc\R\bin\R.exe CMD INSTALL ENmix StartedAt: 2025-02-04 16:51:28 -0500 (Tue, 04 Feb 2025) EndedAt: 2025-02-04 16:52:38 -0500 (Tue, 04 Feb 2025) EllapsedTime: 70.0 seconds RetCode: 0 Status: OK