Package: ERSSA Version: 1.25.0 Command: /Library/Frameworks/R.framework/Resources/bin/R CMD build --keep-empty-dirs --no-resave-data ERSSA StartedAt: 2025-02-09 16:17:12 -0500 (Sun, 09 Feb 2025) EndedAt: 2025-02-09 16:17:31 -0500 (Sun, 09 Feb 2025) EllapsedTime: 19.2 seconds RetCode: 0 Status: OK PackageFile: ERSSA_1.25.0.tar.gz PackageFileSize: 2.679 MiB