Package: ERSSA Version: 1.25.0 Command: /home/biocbuild/bbs-3.21-bioc/R/bin/R CMD build --keep-empty-dirs --no-resave-data ERSSA StartedAt: 2025-02-03 17:20:03 -0500 (Mon, 03 Feb 2025) EndedAt: 2025-02-03 17:20:51 -0500 (Mon, 03 Feb 2025) EllapsedTime: 48.0 seconds RetCode: 0 Status: OK PackageFile: ERSSA_1.25.0.tar.gz PackageFileSize: 2.679 MiB