Package: ERSSA Version: 1.25.0 Command: /home/biocbuild/bbs-3.21-bioc/R/bin/R CMD check --install=check:ERSSA.install-out.txt --library=/home/biocbuild/bbs-3.21-bioc/R/site-library --timings ERSSA_1.25.0.tar.gz StartedAt: 2025-02-09 22:09:49 -0500 (Sun, 09 Feb 2025) EndedAt: 2025-02-09 22:14:55 -0500 (Sun, 09 Feb 2025) EllapsedTime: 305.4 seconds RetCode: 0 Status: OK CheckDir: ERSSA.Rcheck Warnings: 0