Package: ERSSA Version: 1.25.0 Command: rm -rf ERSSA.buildbin-libdir && mkdir ERSSA.buildbin-libdir && E:\biocbuild\bbs-3.21-bioc\R\bin\R.exe CMD INSTALL --build --library=ERSSA.buildbin-libdir ERSSA_1.25.0.tar.gz StartedAt: 2025-02-10 07:43:11 -0500 (Mon, 10 Feb 2025) EndedAt: 2025-02-10 07:43:43 -0500 (Mon, 10 Feb 2025) EllapsedTime: 32.3 seconds RetCode: 0 Status: OK PackageFile: ERSSA_1.25.0.zip PackageFileSize: 2.428 MiB