Package: ERSSA Version: 1.25.0 Command: chmod a+r ERSSA -R && E:\biocbuild\bbs-3.21-bioc\R\bin\R.exe CMD build --keep-empty-dirs --no-resave-data ERSSA StartedAt: 2025-02-12 18:40:51 -0500 (Wed, 12 Feb 2025) EndedAt: 2025-02-12 18:42:00 -0500 (Wed, 12 Feb 2025) EllapsedTime: 69.7 seconds RetCode: 0 Status: OK PackageFile: ERSSA_1.25.0.tar.gz PackageFileSize: 2.679 MiB