Package: EmpiricalBrownsMethod Version: 1.35.0 Command: /Library/Frameworks/R.framework/Resources/bin/R CMD build --keep-empty-dirs --no-resave-data EmpiricalBrownsMethod StartedAt: 2025-02-09 16:13:24 -0500 (Sun, 09 Feb 2025) EndedAt: 2025-02-09 16:13:26 -0500 (Sun, 09 Feb 2025) EllapsedTime: 2.0 seconds RetCode: 0 Status: OK PackageFile: EmpiricalBrownsMethod_1.35.0.tar.gz PackageFileSize: 38.74 KiB