Package: EmpiricalBrownsMethod Version: 1.35.0 Command: /home/biocbuild/R/R/bin/R CMD check --install=check:EmpiricalBrownsMethod.install-out.txt --library=/home/biocbuild/R/R/site-library --no-vignettes --timings EmpiricalBrownsMethod_1.35.0.tar.gz StartedAt: 2025-01-28 10:15:24 -0000 (Tue, 28 Jan 2025) EndedAt: 2025-01-28 10:15:40 -0000 (Tue, 28 Jan 2025) EllapsedTime: 16.0 seconds RetCode: 0 Status: OK CheckDir: EmpiricalBrownsMethod.Rcheck Warnings: 0