Package: EmpiricalBrownsMethod Version: 1.35.0 Command: /home/biocbuild/R/R/bin/R CMD INSTALL EmpiricalBrownsMethod StartedAt: 2025-01-29 19:29:40 -0000 (Wed, 29 Jan 2025) EndedAt: 2025-01-29 19:29:50 -0000 (Wed, 29 Jan 2025) EllapsedTime: 9.5 seconds RetCode: 0 Status: OK