Package: EmpiricalBrownsMethod Version: 1.35.0 Command: rm -rf EmpiricalBrownsMethod.buildbin-libdir && mkdir EmpiricalBrownsMethod.buildbin-libdir && /Users/biocbuild/BBS/utils/build-universal.sh EmpiricalBrownsMethod_1.35.0.tar.gz /Library/Frameworks/R.framework/Resources/bin/R EmpiricalBrownsMethod.buildbin-libdir StartedAt: 2025-02-10 00:51:59 -0500 (Mon, 10 Feb 2025) EndedAt: 2025-02-10 00:52:04 -0500 (Mon, 10 Feb 2025) EllapsedTime: 4.5 seconds RetCode: 0 Status: OK PackageFile: EmpiricalBrownsMethod_1.35.0.tgz PackageFileSize: 51.33 KiB