Package: EmpiricalBrownsMethod Version: 1.35.0 Command: /Library/Frameworks/R.framework/Resources/bin/R CMD build --keep-empty-dirs --no-resave-data EmpiricalBrownsMethod StartedAt: 2025-02-12 16:37:10 -0500 (Wed, 12 Feb 2025) EndedAt: 2025-02-12 16:37:16 -0500 (Wed, 12 Feb 2025) EllapsedTime: 5.7 seconds RetCode: 0 Status: OK PackageFile: EmpiricalBrownsMethod_1.35.0.tar.gz PackageFileSize: 38.69 KiB