Package: EmpiricalBrownsMethod Version: 1.35.0 Command: /home/biocbuild/bbs-3.21-bioc/R/bin/R CMD INSTALL EmpiricalBrownsMethod StartedAt: 2025-02-09 15:02:44 -0500 (Sun, 09 Feb 2025) EndedAt: 2025-02-09 15:02:54 -0500 (Sun, 09 Feb 2025) EllapsedTime: 9.7 seconds RetCode: 0 Status: OK