Package: EmpiricalBrownsMethod Version: 1.35.0 Command: rm -rf EmpiricalBrownsMethod.buildbin-libdir && mkdir EmpiricalBrownsMethod.buildbin-libdir && E:\biocbuild\bbs-3.21-bioc\R\bin\R.exe CMD INSTALL --build --library=EmpiricalBrownsMethod.buildbin-libdir EmpiricalBrownsMethod_1.35.0.tar.gz StartedAt: 2025-02-10 07:40:54 -0500 (Mon, 10 Feb 2025) EndedAt: 2025-02-10 07:41:55 -0500 (Mon, 10 Feb 2025) EllapsedTime: 60.4 seconds RetCode: 0 Status: OK PackageFile: EmpiricalBrownsMethod_1.35.0.zip PackageFileSize: 57.86 KiB