Package: EmpiricalBrownsMethod Version: 1.35.0 Command: chmod a+r EmpiricalBrownsMethod -R && E:\biocbuild\bbs-3.21-bioc\R\bin\R.exe CMD build --keep-empty-dirs --no-resave-data EmpiricalBrownsMethod StartedAt: 2025-02-09 18:31:13 -0500 (Sun, 09 Feb 2025) EndedAt: 2025-02-09 18:31:21 -0500 (Sun, 09 Feb 2025) EllapsedTime: 7.8 seconds RetCode: 0 Status: OK PackageFile: EmpiricalBrownsMethod_1.35.0.tar.gz PackageFileSize: 38.73 KiB