Package: EmpiricalBrownsMethod Version: 1.35.0 Command: E:\biocbuild\bbs-3.21-bioc\R\bin\R.exe CMD check --no-multiarch --install=check:EmpiricalBrownsMethod.install-out.txt --library=E:\biocbuild\bbs-3.21-bioc\R\library --no-vignettes --timings EmpiricalBrownsMethod_1.35.0.tar.gz StartedAt: 2025-02-10 00:47:51 -0500 (Mon, 10 Feb 2025) EndedAt: 2025-02-10 00:48:19 -0500 (Mon, 10 Feb 2025) EllapsedTime: 28.1 seconds RetCode: 0 Status: OK CheckDir: EmpiricalBrownsMethod.Rcheck Warnings: 0