Package: EnhancedVolcano Version: 1.25.0 Command: /home/biocbuild/bbs-3.21-bioc/R/bin/R CMD build --keep-empty-dirs --no-resave-data EnhancedVolcano StartedAt: 2025-02-09 17:06:42 -0500 (Sun, 09 Feb 2025) EndedAt: 2025-02-09 17:08:16 -0500 (Sun, 09 Feb 2025) EllapsedTime: 94.1 seconds RetCode: 0 Status: OK PackageFile: EnhancedVolcano_1.25.0.tar.gz PackageFileSize: 9.631 MiB