Package: EnrichedHeatmap Version: 1.37.0 Command: /Library/Frameworks/R.framework/Resources/bin/R CMD check --install=check:EnrichedHeatmap.install-out.txt --library=/Library/Frameworks/R.framework/Resources/library --no-vignettes --timings EnrichedHeatmap_1.37.0.tar.gz StartedAt: 2025-02-12 19:09:10 -0500 (Wed, 12 Feb 2025) EndedAt: 2025-02-12 19:09:57 -0500 (Wed, 12 Feb 2025) EllapsedTime: 46.5 seconds RetCode: 0 Status: OK CheckDir: EnrichedHeatmap.Rcheck Warnings: 0