Package: EnrichmentBrowser Version: 2.37.0 Command: rm -rf EnrichmentBrowser.buildbin-libdir && mkdir EnrichmentBrowser.buildbin-libdir && /Users/biocbuild/BBS/utils/build-universal.sh EnrichmentBrowser_2.37.0.tar.gz /Library/Frameworks/R.framework/Resources/bin/R EnrichmentBrowser.buildbin-libdir StartedAt: 2025-02-10 00:52:09 -0500 (Mon, 10 Feb 2025) EndedAt: 2025-02-10 00:52:56 -0500 (Mon, 10 Feb 2025) EllapsedTime: 47.5 seconds RetCode: 0 Status: OK PackageFile: EnrichmentBrowser_2.37.0.tgz PackageFileSize: 1.865 MiB