Package: EnrichmentBrowser Version: 2.37.0 Command: /Library/Frameworks/R.framework/Resources/bin/R CMD build --keep-empty-dirs --no-resave-data EnrichmentBrowser StartedAt: 2025-02-09 16:39:42 -0500 (Sun, 09 Feb 2025) EndedAt: 2025-02-09 16:42:09 -0500 (Sun, 09 Feb 2025) EllapsedTime: 146.2 seconds RetCode: 0 Status: OK PackageFile: EnrichmentBrowser_2.37.0.tar.gz PackageFileSize: 1.661 MiB