Package: EnrichmentBrowser Version: 2.37.0 Command: /Library/Frameworks/R.framework/Resources/bin/R CMD check --install=check:EnrichmentBrowser.install-out.txt --library=/Library/Frameworks/R.framework/Resources/library --no-vignettes --timings EnrichmentBrowser_2.37.0.tar.gz StartedAt: 2025-02-09 20:30:59 -0500 (Sun, 09 Feb 2025) EndedAt: 2025-02-09 20:38:18 -0500 (Sun, 09 Feb 2025) EllapsedTime: 438.5 seconds RetCode: 0 Status: OK CheckDir: EnrichmentBrowser.Rcheck Warnings: 0