Package: EnrichmentBrowser Version: 2.37.0 Command: /Library/Frameworks/R.framework/Resources/bin/R CMD INSTALL EnrichmentBrowser StartedAt: 2025-02-09 15:22:32 -0500 (Sun, 09 Feb 2025) EndedAt: 2025-02-09 15:23:24 -0500 (Sun, 09 Feb 2025) EllapsedTime: 52.2 seconds RetCode: 0 Status: OK