Package: EnrichmentBrowser Version: 2.37.0 Command: E:\biocbuild\bbs-3.21-bioc\R\bin\R.exe CMD INSTALL EnrichmentBrowser StartedAt: 2025-02-09 16:10:17 -0500 (Sun, 09 Feb 2025) EndedAt: 2025-02-09 16:11:38 -0500 (Sun, 09 Feb 2025) EllapsedTime: 81.0 seconds RetCode: 0 Status: OK