Package: EpiCompare Version: 1.11.0 Command: /Library/Frameworks/R.framework/Resources/bin/R CMD INSTALL EpiCompare StartedAt: 2025-02-09 15:20:24 -0500 (Sun, 09 Feb 2025) EndedAt: 2025-02-09 15:20:43 -0500 (Sun, 09 Feb 2025) EllapsedTime: 18.8 seconds RetCode: 0 Status: OK