Package: EpiCompare Version: 1.11.2 Command: /home/biocbuild/bbs-3.21-bioc/R/bin/R CMD INSTALL EpiCompare StartedAt: 2025-02-12 15:58:38 -0500 (Wed, 12 Feb 2025) EndedAt: 2025-02-12 15:58:39 -0500 (Wed, 12 Feb 2025) EllapsedTime: 1.0 seconds RetCode: 1 Status: ERROR