Package: EpiCompare Version: 1.11.0 Command: rm -rf EpiCompare.buildbin-libdir && mkdir EpiCompare.buildbin-libdir && E:\biocbuild\bbs-3.21-bioc\R\bin\R.exe CMD INSTALL --build --library=EpiCompare.buildbin-libdir EpiCompare_1.11.0.tar.gz StartedAt: 2025-02-11 07:54:40 -0500 (Tue, 11 Feb 2025) EndedAt: 2025-02-11 07:55:47 -0500 (Tue, 11 Feb 2025) EllapsedTime: 67.6 seconds RetCode: 0 Status: OK PackageFile: EpiCompare_1.11.0.zip PackageFileSize: 1.663 MiB