Package: EpiCompare Version: 1.11.0 Command: chmod a+r EpiCompare -R && E:\biocbuild\bbs-3.21-bioc\R\bin\R.exe CMD build --keep-empty-dirs --no-resave-data EpiCompare StartedAt: 2025-02-09 18:33:19 -0500 (Sun, 09 Feb 2025) EndedAt: 2025-02-09 18:35:02 -0500 (Sun, 09 Feb 2025) EllapsedTime: 102.8 seconds RetCode: 0 Status: OK PackageFile: EpiCompare_1.11.0.tar.gz PackageFileSize: 1.871 MiB