Package: EpiMix Version: 1.9.0 Command: rm -rf EpiMix.buildbin-libdir && mkdir EpiMix.buildbin-libdir && /Users/biocbuild/BBS/utils/build-universal.sh EpiMix_1.9.0.tar.gz /Library/Frameworks/R.framework/Resources/bin/R EpiMix.buildbin-libdir StartedAt: 2025-02-09 22:13:32 -0500 (Sun, 09 Feb 2025) EndedAt: 2025-02-09 22:13:50 -0500 (Sun, 09 Feb 2025) EllapsedTime: 18.4 seconds RetCode: 0 Status: OK PackageFile: EpiMix_1.9.0.tgz PackageFileSize: 2.359 MiB