Package: EpiMix Version: 1.9.0 Command: /Library/Frameworks/R.framework/Resources/bin/R CMD check --install=check:EpiMix.install-out.txt --library=/Library/Frameworks/R.framework/Resources/library --no-vignettes --timings EpiMix_1.9.0.tar.gz StartedAt: 2025-02-03 19:44:29 -0500 (Mon, 03 Feb 2025) EndedAt: 2025-02-03 19:47:23 -0500 (Mon, 03 Feb 2025) EllapsedTime: 174.0 seconds RetCode: 0 Status: OK CheckDir: EpiMix.Rcheck Warnings: 0