Package: EpiMix Version: 1.9.0 Command: rm -rf EpiMix.buildbin-libdir && mkdir EpiMix.buildbin-libdir && /Users/biocbuild/BBS/utils/build-universal.sh EpiMix_1.9.0.tar.gz /Library/Frameworks/R.framework/Resources/bin/R EpiMix.buildbin-libdir StartedAt: 2025-02-10 00:52:22 -0500 (Mon, 10 Feb 2025) EndedAt: 2025-02-10 00:53:23 -0500 (Mon, 10 Feb 2025) EllapsedTime: 60.3 seconds RetCode: 0 Status: OK PackageFile: EpiMix_1.9.0.tgz PackageFileSize: 2.344 MiB