Package: EpiMix Version: 1.9.0 Command: /Library/Frameworks/R.framework/Resources/bin/R CMD build --keep-empty-dirs --no-resave-data EpiMix StartedAt: 2025-02-09 16:40:24 -0500 (Sun, 09 Feb 2025) EndedAt: 2025-02-09 16:48:00 -0500 (Sun, 09 Feb 2025) EllapsedTime: 456.4 seconds RetCode: 0 Status: OK PackageFile: EpiMix_1.9.0.tar.gz PackageFileSize: 2.893 MiB