Package: EpiMix Version: 1.9.0 Command: E:\biocbuild\bbs-3.21-bioc\R\bin\R.exe CMD check --no-multiarch --install=check:EpiMix.install-out.txt --library=E:\biocbuild\bbs-3.21-bioc\R\library --no-vignettes --timings EpiMix_1.9.0.tar.gz StartedAt: 2025-02-10 00:51:30 -0500 (Mon, 10 Feb 2025) EndedAt: 2025-02-10 01:00:24 -0500 (Mon, 10 Feb 2025) EllapsedTime: 534.3 seconds RetCode: 0 Status: OK CheckDir: EpiMix.Rcheck Warnings: 0