Package: EpiMix Version: 1.9.0 Command: E:\biocbuild\bbs-3.21-bioc\R\bin\R.exe CMD INSTALL EpiMix StartedAt: 2025-02-03 16:38:21 -0500 (Mon, 03 Feb 2025) EndedAt: 2025-02-03 16:39:37 -0500 (Mon, 03 Feb 2025) EllapsedTime: 75.7 seconds RetCode: 0 Status: OK