Package: EventPointer Version: 3.15.0 Maintainer: Juan A. Ferrer-Bonsoms MaintainerEmail: jafhernandez at tecnun.es git_url: https://git.bioconductor.org/packages/EventPointer git_branch: devel git_last_commit: 8a000b5 git_last_commit_date: 2024-10-29 10:17:38 -0500 (Tue, 29 Oct 2024)