Package: EventPointer Version: 3.15.0 Command: /home/biocbuild/R/R/bin/R CMD build --keep-empty-dirs --no-resave-data EventPointer StartedAt: 2025-01-28 22:49:21 -0000 (Tue, 28 Jan 2025) EndedAt: 2025-01-28 22:51:10 -0000 (Tue, 28 Jan 2025) EllapsedTime: 109.1 seconds RetCode: 0 Status: OK PackageFile: EventPointer_3.15.0.tar.gz PackageFileSize: 1.666 MiB