Package: EventPointer Version: 3.15.0 Command: /home/biocbuild/R/R/bin/R CMD INSTALL EventPointer StartedAt: 2025-01-29 20:24:11 -0000 (Wed, 29 Jan 2025) EndedAt: 2025-01-29 20:25:22 -0000 (Wed, 29 Jan 2025) EllapsedTime: 70.7 seconds RetCode: 0 Status: OK