Package: EventPointer Version: 3.15.0 Command: rm -rf EventPointer.buildbin-libdir && mkdir EventPointer.buildbin-libdir && /Users/biocbuild/BBS/utils/build-universal.sh EventPointer_3.15.0.tar.gz /Library/Frameworks/R.framework/Resources/bin/R EventPointer.buildbin-libdir StartedAt: 2025-02-05 00:39:18 -0500 (Wed, 05 Feb 2025) EndedAt: 2025-02-05 00:40:31 -0500 (Wed, 05 Feb 2025) EllapsedTime: 73.0 seconds RetCode: 0 Status: OK PackageFile: EventPointer_3.15.0.tgz PackageFileSize: 1.315 MiB