Package: EventPointer Version: 3.15.0 Command: /Library/Frameworks/R.framework/Resources/bin/R CMD build --keep-empty-dirs --no-resave-data EventPointer StartedAt: 2025-02-04 16:39:38 -0500 (Tue, 04 Feb 2025) EndedAt: 2025-02-04 16:41:07 -0500 (Tue, 04 Feb 2025) EllapsedTime: 89.0 seconds RetCode: 0 Status: OK PackageFile: EventPointer_3.15.0.tar.gz PackageFileSize: 1.642 MiB