Package: EventPointer Version: 3.15.0 Command: /Library/Frameworks/R.framework/Resources/bin/R CMD INSTALL EventPointer StartedAt: 2025-02-04 15:36:10 -0500 (Tue, 04 Feb 2025) EndedAt: 2025-02-04 15:37:19 -0500 (Tue, 04 Feb 2025) EllapsedTime: 68.8 seconds RetCode: 0 Status: OK