Package: EventPointer Version: 3.15.0 Command: /home/biocbuild/bbs-3.21-bioc/R/bin/R CMD check --install=check:EventPointer.install-out.txt --library=/home/biocbuild/bbs-3.21-bioc/R/site-library --timings EventPointer_3.15.0.tar.gz StartedAt: 2025-02-09 22:12:20 -0500 (Sun, 09 Feb 2025) EndedAt: 2025-02-09 22:18:15 -0500 (Sun, 09 Feb 2025) EllapsedTime: 354.5 seconds RetCode: 0 Status: OK CheckDir: EventPointer.Rcheck Warnings: 0