Package: EventPointer Version: 3.15.0 Command: /home/biocbuild/bbs-3.21-bioc/R/bin/R CMD INSTALL EventPointer StartedAt: 2025-02-09 15:59:23 -0500 (Sun, 09 Feb 2025) EndedAt: 2025-02-09 16:00:14 -0500 (Sun, 09 Feb 2025) EllapsedTime: 51.3 seconds RetCode: 0 Status: OK