Package: EventPointer Version: 3.15.0 Command: chmod a+r EventPointer -R && E:\biocbuild\bbs-3.21-bioc\R\bin\R.exe CMD build --keep-empty-dirs --no-resave-data EventPointer StartedAt: 2025-02-04 18:41:01 -0500 (Tue, 04 Feb 2025) EndedAt: 2025-02-04 18:43:22 -0500 (Tue, 04 Feb 2025) EllapsedTime: 140.6 seconds RetCode: 0 Status: OK PackageFile: EventPointer_3.15.0.tar.gz PackageFileSize: 1.642 MiB