Package: EventPointer Version: 3.15.0 Command: E:\biocbuild\bbs-3.21-bioc\R\bin\R.exe CMD check --no-multiarch --install=check:EventPointer.install-out.txt --library=E:\biocbuild\bbs-3.21-bioc\R\library --no-vignettes --timings EventPointer_3.15.0.tar.gz StartedAt: 2025-02-10 00:59:40 -0500 (Mon, 10 Feb 2025) EndedAt: 2025-02-10 01:06:52 -0500 (Mon, 10 Feb 2025) EllapsedTime: 431.9 seconds RetCode: 0 Status: OK CheckDir: EventPointer.Rcheck Warnings: 0