Package: EventPointer Version: 3.15.0 Command: E:\biocbuild\bbs-3.21-bioc\R\bin\R.exe CMD INSTALL EventPointer StartedAt: 2025-02-04 16:39:26 -0500 (Tue, 04 Feb 2025) EndedAt: 2025-02-04 16:41:12 -0500 (Tue, 04 Feb 2025) EllapsedTime: 105.9 seconds RetCode: 0 Status: OK