Package: ExCluster Version: 1.25.0 Command: /home/biocbuild/R/R/bin/R CMD build --keep-empty-dirs --no-resave-data ExCluster StartedAt: 2025-01-28 22:49:50 -0000 (Tue, 28 Jan 2025) EndedAt: 2025-01-28 22:50:48 -0000 (Tue, 28 Jan 2025) EllapsedTime: 58.0 seconds RetCode: 0 Status: OK PackageFile: ExCluster_1.25.0.tar.gz PackageFileSize: 398.2 KiB