Package: ExCluster Version: 1.25.0 Command: /home/biocbuild/R/R/bin/R CMD INSTALL ExCluster StartedAt: 2025-01-29 19:50:19 -0000 (Wed, 29 Jan 2025) EndedAt: 2025-01-29 19:50:59 -0000 (Wed, 29 Jan 2025) EllapsedTime: 39.9 seconds RetCode: 0 Status: OK