Package: ExCluster Version: 1.25.0 Command: rm -rf ExCluster.buildbin-libdir && mkdir ExCluster.buildbin-libdir && /Users/biocbuild/BBS/utils/build-universal.sh ExCluster_1.25.0.tar.gz /Library/Frameworks/R.framework/Resources/bin/R ExCluster.buildbin-libdir StartedAt: 2025-02-04 00:33:37 -0500 (Tue, 04 Feb 2025) EndedAt: 2025-02-04 00:34:19 -0500 (Tue, 04 Feb 2025) EllapsedTime: 41.7 seconds RetCode: 0 Status: OK PackageFile: ExCluster_1.25.0.tgz PackageFileSize: 484.7 KiB