Package: ExCluster Version: 1.25.0 Command: /Library/Frameworks/R.framework/Resources/bin/R CMD build --keep-empty-dirs --no-resave-data ExCluster StartedAt: 2025-02-09 16:43:17 -0500 (Sun, 09 Feb 2025) EndedAt: 2025-02-09 16:44:06 -0500 (Sun, 09 Feb 2025) EllapsedTime: 49.1 seconds RetCode: 0 Status: OK PackageFile: ExCluster_1.25.0.tar.gz PackageFileSize: 403.6 KiB