Package: ExCluster Version: 1.25.0 Command: /Library/Frameworks/R.framework/Resources/bin/R CMD check --install=check:ExCluster.install-out.txt --library=/Library/Frameworks/R.framework/Resources/library --no-vignettes --timings ExCluster_1.25.0.tar.gz StartedAt: 2025-02-09 20:37:36 -0500 (Sun, 09 Feb 2025) EndedAt: 2025-02-09 20:42:11 -0500 (Sun, 09 Feb 2025) EllapsedTime: 274.9 seconds RetCode: 0 Status: OK CheckDir: ExCluster.Rcheck Warnings: 0