Package: ExCluster Version: 1.25.0 Command: /Library/Frameworks/R.framework/Resources/bin/R CMD INSTALL ExCluster StartedAt: 2025-02-09 15:17:39 -0500 (Sun, 09 Feb 2025) EndedAt: 2025-02-09 15:18:20 -0500 (Sun, 09 Feb 2025) EllapsedTime: 40.4 seconds RetCode: 0 Status: OK